BEGIN:VCALENDAR
VERSION:2.0
PRODID:-//Gray&#039;s Creek Church - ECPv6.15.20//NONSGML v1.0//EN
CALSCALE:GREGORIAN
METHOD:PUBLISH
X-WR-CALNAME:Gray&#039;s Creek Church
X-ORIGINAL-URL:https://gcbchurch.org
X-WR-CALDESC:Events for Gray&#039;s Creek Church
REFRESH-INTERVAL;VALUE=DURATION:PT1H
X-Robots-Tag:noindex
X-PUBLISHED-TTL:PT1H
BEGIN:VTIMEZONE
TZID:America/Chicago
BEGIN:DAYLIGHT
TZOFFSETFROM:-0600
TZOFFSETTO:-0500
TZNAME:CDT
DTSTART:20250309T080000
END:DAYLIGHT
BEGIN:STANDARD
TZOFFSETFROM:-0500
TZOFFSETTO:-0600
TZNAME:CST
DTSTART:20251102T070000
END:STANDARD
BEGIN:DAYLIGHT
TZOFFSETFROM:-0600
TZOFFSETTO:-0500
TZNAME:CDT
DTSTART:20260308T080000
END:DAYLIGHT
BEGIN:STANDARD
TZOFFSETFROM:-0500
TZOFFSETTO:-0600
TZNAME:CST
DTSTART:20261101T070000
END:STANDARD
BEGIN:DAYLIGHT
TZOFFSETFROM:-0600
TZOFFSETTO:-0500
TZNAME:CDT
DTSTART:20270314T080000
END:DAYLIGHT
BEGIN:STANDARD
TZOFFSETFROM:-0500
TZOFFSETTO:-0600
TZNAME:CST
DTSTART:20271107T070000
END:STANDARD
END:VTIMEZONE
BEGIN:VEVENT
DTSTART;TZID=America/Chicago:20260422T183000
DTEND;TZID=America/Chicago:20260422T193000
DTSTAMP:20260421T065459
CREATED:20250129T045556Z
LAST-MODIFIED:20260408T221539Z
UID:1602-1776882600-1776886200@gcbchurch.org
SUMMARY:Virtual Bible Study - Gray's Creek Church Facebook & YouTube
DESCRIPTION:
URL:https://gcbchurch.org/event/bible-study-66/
END:VEVENT
BEGIN:VEVENT
DTSTART;TZID=America/Chicago:20260429T183000
DTEND;TZID=America/Chicago:20260429T193000
DTSTAMP:20260421T065459
CREATED:20250308T030939Z
LAST-MODIFIED:20260408T221442Z
UID:1641-1777487400-1777491000@gcbchurch.org
SUMMARY:Virtual Bible Study - Gray's Creek Church Facebook & YouTube
DESCRIPTION:
URL:https://gcbchurch.org/event/bible-study-72/
END:VEVENT
BEGIN:VEVENT
DTSTART;TZID=America/Chicago:20260502T100000
DTEND;TZID=America/Chicago:20260502T100000
DTSTAMP:20260421T065459
CREATED:20250111T041427Z
LAST-MODIFIED:20260113T042242Z
UID:1477-1777716000-1777716000@gcbchurch.org
SUMMARY:Mid-South Food Bank Mobile Pantry Distribution
DESCRIPTION:
URL:https://gcbchurch.org/event/mid-south-food-bank-mobile-pantry-distribution-4/
END:VEVENT
BEGIN:VEVENT
DTSTART;TZID=America/Chicago:20260503T120000
DTEND;TZID=America/Chicago:20260503T120000
DTSTAMP:20260421T065459
CREATED:20260117T030114Z
LAST-MODIFIED:20260117T030114Z
UID:2032-1777809600-1777809600@gcbchurch.org
SUMMARY:The Creek Ministry Fair
DESCRIPTION:
URL:https://gcbchurch.org/event/the-creek-ministry-fair/
END:VEVENT
BEGIN:VEVENT
DTSTART;TZID=America/Chicago:20260506T183000
DTEND;TZID=America/Chicago:20260506T193000
DTSTAMP:20260421T065459
CREATED:20250308T031402Z
LAST-MODIFIED:20260408T221337Z
UID:1645-1778092200-1778095800@gcbchurch.org
SUMMARY:Virtual Bible Study - Gray's Creek Church Facebook & YouTube
DESCRIPTION:
URL:https://gcbchurch.org/event/bible-study-73/
END:VEVENT
BEGIN:VEVENT
DTSTART;TZID=America/Chicago:20260510T100000
DTEND;TZID=America/Chicago:20260510T100000
DTSTAMP:20260421T065459
CREATED:20240103T041037Z
LAST-MODIFIED:20260108T040316Z
UID:1099-1778407200-1778407200@gcbchurch.org
SUMMARY:Mother's Day
DESCRIPTION:
URL:https://gcbchurch.org/event/mothers-day-2/
END:VEVENT
BEGIN:VEVENT
DTSTART;TZID=America/Chicago:20260513T183000
DTEND;TZID=America/Chicago:20260513T193000
DTSTAMP:20260421T065459
CREATED:20250129T050136Z
LAST-MODIFIED:20260408T221305Z
UID:1622-1778697000-1778700600@gcbchurch.org
SUMMARY:Virtual Bible Study - Gray's Creek Church Facebook & YouTube
DESCRIPTION:
URL:https://gcbchurch.org/event/bible-study-70/
END:VEVENT
BEGIN:VEVENT
DTSTART;TZID=America/Chicago:20260516T133000
DTEND;TZID=America/Chicago:20260516T153000
DTSTAMP:20260421T065459
CREATED:20250111T041034Z
LAST-MODIFIED:20260108T232237Z
UID:1467-1778938200-1778945400@gcbchurch.org
SUMMARY:Rainbow Rehab and Healthcare Nursing Facility Ministry Outreach - 1:30pm
DESCRIPTION:
URL:https://gcbchurch.org/event/rainbow-rehab-and-healthcare-nursing-facility-ministry-outreach-130pm-2/
END:VEVENT
BEGIN:VEVENT
DTSTART;TZID=America/Chicago:20260517T100000
DTEND;TZID=America/Chicago:20260517T100000
DTSTAMP:20260421T065459
CREATED:20250111T041938Z
LAST-MODIFIED:20260108T040547Z
UID:1487-1779012000-1779012000@gcbchurch.org
SUMMARY:Graduation Sunday
DESCRIPTION:
URL:https://gcbchurch.org/event/graduation-sunday-3/
END:VEVENT
BEGIN:VEVENT
DTSTART;TZID=America/Chicago:20260520T183000
DTEND;TZID=America/Chicago:20260520T193000
DTSTAMP:20260421T065459
CREATED:20250129T045457Z
LAST-MODIFIED:20260408T221207Z
UID:1600-1779301800-1779305400@gcbchurch.org
SUMMARY:Virtual Bible Study - Gray's Creek Church Facebook & YouTube
DESCRIPTION:
URL:https://gcbchurch.org/event/bible-study-65/
END:VEVENT
BEGIN:VEVENT
DTSTART;TZID=America/Chicago:20260527T183000
DTEND;TZID=America/Chicago:20260527T193000
DTSTAMP:20260421T065459
CREATED:20250308T030847Z
LAST-MODIFIED:20260408T221128Z
UID:1639-1779906600-1779910200@gcbchurch.org
SUMMARY:Virtual Bible Study - Gray's Creek Church Facebook & YouTube
DESCRIPTION:
URL:https://gcbchurch.org/event/bible-study-71/
END:VEVENT
BEGIN:VEVENT
DTSTART;VALUE=DATE:20260530
DTEND;VALUE=DATE:20260531
DTSTAMP:20260421T065459
CREATED:20250129T045911Z
LAST-MODIFIED:20260108T171051Z
UID:1612-1780099200-1780185599@gcbchurch.org
SUMMARY:Veteran's Ministry
DESCRIPTION:
URL:https://gcbchurch.org/event/veterans-ministry-2/
END:VEVENT
BEGIN:VEVENT
DTSTART;TZID=America/Chicago:20260601T171500
DTEND;TZID=America/Chicago:20260601T201500
DTSTAMP:20260421T065459
CREATED:20250111T042319Z
LAST-MODIFIED:20260108T040216Z
UID:1491-1780334100-1780344900@gcbchurch.org
SUMMARY:Vacation Bible School (VBS) - 5:15pm to 8:15pm
DESCRIPTION:
URL:https://gcbchurch.org/event/vacation-bible-school-vbs-515pm-to-815pm/
END:VEVENT
BEGIN:VEVENT
DTSTART;TZID=America/Chicago:20260602T171500
DTEND;TZID=America/Chicago:20260602T201500
DTSTAMP:20260421T065459
CREATED:20250111T042400Z
LAST-MODIFIED:20260108T040143Z
UID:1493-1780420500-1780431300@gcbchurch.org
SUMMARY:Vacation Bible School (VBS) - 5:15pm to 8:15pm
DESCRIPTION:
URL:https://gcbchurch.org/event/vacation-bible-school-vbs-515pm-to-815pm-2/
END:VEVENT
BEGIN:VEVENT
DTSTART;TZID=America/Chicago:20260603T171500
DTEND;TZID=America/Chicago:20260603T201500
DTSTAMP:20260421T065459
CREATED:20250111T042439Z
LAST-MODIFIED:20260108T040116Z
UID:1495-1780506900-1780517700@gcbchurch.org
SUMMARY:Vacation Bible School (VBS) - 5:15pm to 8:15pm
DESCRIPTION:
URL:https://gcbchurch.org/event/vacation-bible-school-vbs-515pm-to-815pm-3/
END:VEVENT
BEGIN:VEVENT
DTSTART;TZID=America/Chicago:20260604T171500
DTEND;TZID=America/Chicago:20260604T201500
DTSTAMP:20260421T065459
CREATED:20250111T042512Z
LAST-MODIFIED:20260108T040031Z
UID:1497-1780593300-1780604100@gcbchurch.org
SUMMARY:Vacation Bible School (VBS) - 5:15pm to 8:15pm
DESCRIPTION:
URL:https://gcbchurch.org/event/vacation-bible-school-vbs-515pm-to-815pm-4/
END:VEVENT
BEGIN:VEVENT
DTSTART;TZID=America/Chicago:20260609T173000
DTEND;TZID=America/Chicago:20260609T183000
DTSTAMP:20260421T065459
CREATED:20250129T045101Z
LAST-MODIFIED:20260108T165544Z
UID:1589-1781026200-1781029800@gcbchurch.org
SUMMARY:Le Bonheur Children's Hospital Ministry Outreach
DESCRIPTION:
URL:https://gcbchurch.org/event/le-bonheur-childrens-hospital-ministry-outreach-3/
END:VEVENT
BEGIN:VEVENT
DTSTART;TZID=America/Chicago:20260610T183000
DTEND;TZID=America/Chicago:20260610T193000
DTSTAMP:20260421T065459
CREATED:20241231T025618Z
LAST-MODIFIED:20260408T221053Z
UID:1459-1781116200-1781119800@gcbchurch.org
SUMMARY:Virtual Bible Study - Gray's Creek Church Facebook & YouTube
DESCRIPTION:
URL:https://gcbchurch.org/event/bible-study-56/
END:VEVENT
BEGIN:VEVENT
DTSTART;TZID=America/Chicago:20260616T170000
DTEND;TZID=America/Chicago:20260616T170000
DTSTAMP:20260421T065459
CREATED:20240106T202251Z
LAST-MODIFIED:20260108T225800Z
UID:1239-1781629200-1781629200@gcbchurch.org
SUMMARY:Clare's House Women's Shelter Ministry Outreach 5:30pm
DESCRIPTION:
URL:https://gcbchurch.org/event/clares-house-womens-shelter-ministry-outreach-530pm-1755-eldridge-avenue-memphis-tn-38108-4/
END:VEVENT
BEGIN:VEVENT
DTSTART;TZID=America/Chicago:20260617T183000
DTEND;TZID=America/Chicago:20260617T193000
DTSTAMP:20260421T065459
CREATED:20241231T025556Z
LAST-MODIFIED:20260408T221030Z
UID:1457-1781721000-1781724600@gcbchurch.org
SUMMARY:Virtual Bible Study - Gray's Creek Church Facebook & YouTube
DESCRIPTION:
URL:https://gcbchurch.org/event/bible-study-55/
END:VEVENT
BEGIN:VEVENT
DTSTART;TZID=America/Chicago:20260621T100000
DTEND;TZID=America/Chicago:20260621T100000
DTSTAMP:20260421T065459
CREATED:20260108T040923Z
LAST-MODIFIED:20260108T040923Z
UID:1954-1782036000-1782036000@gcbchurch.org
SUMMARY:Father's Day
DESCRIPTION:
URL:https://gcbchurch.org/event/fathers-day/
END:VEVENT
BEGIN:VEVENT
DTSTART;TZID=America/Chicago:20260623T170000
DTEND;TZID=America/Chicago:20260623T183000
DTSTAMP:20260421T065459
CREATED:20250111T041726Z
LAST-MODIFIED:20260108T033525Z
UID:1483-1782234000-1782239400@gcbchurch.org
SUMMARY:American Cancer Society - Hope Lodge Cancer Awareness Ministry 5pm
DESCRIPTION:
URL:https://gcbchurch.org/event/american-cancer-society-hope-lodge-cancer-awareness-ministry-5pm/
END:VEVENT
BEGIN:VEVENT
DTSTART;TZID=America/Chicago:20260624T183000
DTEND;TZID=America/Chicago:20260624T193000
DTSTAMP:20260421T065459
CREATED:20240103T040513Z
LAST-MODIFIED:20260408T220938Z
UID:1085-1782325800-1782329400@gcbchurch.org
SUMMARY:Virtual Bible Study - Gray's Creek Church Facebook & YouTube
DESCRIPTION:
URL:https://gcbchurch.org/event/bible-study-19/
END:VEVENT
BEGIN:VEVENT
DTSTART;TZID=America/Chicago:20260630T163000
DTEND;TZID=America/Chicago:20260630T183000
DTSTAMP:20260421T065459
CREATED:20250701T032349Z
LAST-MODIFIED:20260108T224902Z
UID:1747-1782837000-1782844200@gcbchurch.org
SUMMARY:Calvary Rescue Mission Men's Shelter Ministry Outreach
DESCRIPTION:Calvary Rescue Mission Men’s Shelter Ministry Outreach
URL:https://gcbchurch.org/event/calvary-rescue-mission-mens-shelter-ministry-outreach-4/
END:VEVENT
BEGIN:VEVENT
DTSTART;TZID=America/Chicago:20260701T183000
DTEND;TZID=America/Chicago:20260701T193000
DTSTAMP:20260421T065459
CREATED:20260117T025453Z
LAST-MODIFIED:20260408T220905Z
UID:2020-1782930600-1782934200@gcbchurch.org
SUMMARY:Virtual Bible Study - Gray's Creek Church Facebook & YouTube
DESCRIPTION:
URL:https://gcbchurch.org/event/bible-study-17/
END:VEVENT
BEGIN:VEVENT
DTSTART;TZID=America/Chicago:20260708T183000
DTEND;TZID=America/Chicago:20260708T193000
DTSTAMP:20260421T065459
CREATED:20260117T025516Z
LAST-MODIFIED:20260408T220832Z
UID:2022-1783535400-1783539000@gcbchurch.org
SUMMARY:Virtual Bible Study - Gray's Creek Church Facebook & YouTube
DESCRIPTION:
URL:https://gcbchurch.org/event/bible-study-18/
END:VEVENT
BEGIN:VEVENT
DTSTART;TZID=America/Chicago:20260712T100000
DTEND;TZID=America/Chicago:20260712T100000
DTSTAMP:20260421T065459
CREATED:20250111T042018Z
LAST-MODIFIED:20260108T040723Z
UID:1489-1783850400-1783850400@gcbchurch.org
SUMMARY:Baby Dedication
DESCRIPTION:
URL:https://gcbchurch.org/event/baby-dedication-4/
END:VEVENT
BEGIN:VEVENT
DTSTART;TZID=America/Chicago:20260715T183000
DTEND;TZID=America/Chicago:20260715T193000
DTSTAMP:20260421T065459
CREATED:20260117T025541Z
LAST-MODIFIED:20260408T220655Z
UID:2024-1784140200-1784143800@gcbchurch.org
SUMMARY:Virtual Bible Study - Gray's Creek Church Facebook & YouTube
DESCRIPTION:
URL:https://gcbchurch.org/event/bible-study-20/
END:VEVENT
BEGIN:VEVENT
DTSTART;TZID=America/Chicago:20260718T100000
DTEND;TZID=America/Chicago:20260718T100000
DTSTAMP:20260421T065459
CREATED:20260113T042712Z
LAST-MODIFIED:20260113T042712Z
UID:1970-1784368800-1784368800@gcbchurch.org
SUMMARY:Mid-South Food Bank Mobile Pantry Distribution
DESCRIPTION:
URL:https://gcbchurch.org/event/mid-south-food-bank-mobile-pantry-distribution-6/
END:VEVENT
BEGIN:VEVENT
DTSTART;TZID=America/Chicago:20260722T183000
DTEND;TZID=America/Chicago:20260722T193000
DTSTAMP:20260421T065459
CREATED:20260117T025601Z
LAST-MODIFIED:20260408T220625Z
UID:2026-1784745000-1784748600@gcbchurch.org
SUMMARY:Virtual Bible Study - Gray's Creek Church Facebook & YouTube
DESCRIPTION:
URL:https://gcbchurch.org/event/bible-study-21/
END:VEVENT
END:VCALENDAR